BEGIN:VCALENDAR
VERSION:2.0
PRODID:-//Inkspiration by Gabrielle - Graphic Designer in Somerset - ECPv6.15.15//NONSGML v1.0//EN
CALSCALE:GREGORIAN
METHOD:PUBLISH
X-WR-CALNAME:Inkspiration by Gabrielle - Graphic Designer in Somerset
X-ORIGINAL-URL:https://inkspirationbygabrielle.co.uk
X-WR-CALDESC:Events for Inkspiration by Gabrielle - Graphic Designer in Somerset
REFRESH-INTERVAL;VALUE=DURATION:PT1H
X-Robots-Tag:noindex
X-PUBLISHED-TTL:PT1H
BEGIN:VTIMEZONE
TZID:Europe/London
BEGIN:DAYLIGHT
TZOFFSETFROM:+0000
TZOFFSETTO:+0100
TZNAME:BST
DTSTART:20230326T010000
END:DAYLIGHT
BEGIN:STANDARD
TZOFFSETFROM:+0100
TZOFFSETTO:+0000
TZNAME:GMT
DTSTART:20231029T010000
END:STANDARD
BEGIN:DAYLIGHT
TZOFFSETFROM:+0000
TZOFFSETTO:+0100
TZNAME:BST
DTSTART:20240331T010000
END:DAYLIGHT
BEGIN:STANDARD
TZOFFSETFROM:+0100
TZOFFSETTO:+0000
TZNAME:GMT
DTSTART:20241027T010000
END:STANDARD
BEGIN:DAYLIGHT
TZOFFSETFROM:+0000
TZOFFSETTO:+0100
TZNAME:BST
DTSTART:20250330T010000
END:DAYLIGHT
BEGIN:STANDARD
TZOFFSETFROM:+0100
TZOFFSETTO:+0000
TZNAME:GMT
DTSTART:20251026T010000
END:STANDARD
END:VTIMEZONE
BEGIN:VEVENT
DTSTART;TZID=Europe/London:20240825T110000
DTEND;TZID=Europe/London:20240825T140000
DTSTAMP:20260423T173758
CREATED:20240603T144450Z
LAST-MODIFIED:20250502T110847Z
UID:6746-1724583600-1724594400@inkspirationbygabrielle.co.uk
SUMMARY:The Sherborne August Bank Holiday Weekend Special - Wedding Fair
DESCRIPTION:The Sherborne August Bank\nHoliday Weekend Special – Wedding Fair\nSUNDAY Wedding Fayre\nSherborne Girls\, The Merritt Centre\nBradford Rd\, Sherborne DT9 3QN\nSunday 25th August 2024\n11am – 2pm
URL:https://inkspirationbygabrielle.co.uk/event/the-sherborne-august-bank-holiday-weekend-special/
LOCATION:Sherborne Girls\, The Merritt Centre\, Bradford Rd\, Sherborne\, Dorset\, DT9 3QN\, United Kingdom
ATTACH;FMTTYPE=image/webp:https://inkspirationbygabrielle.co.uk/wp-content/uploads/2024/08/SherborneGirls_social.webp
ORGANIZER;CN="Love Actually Weddings":MAILTO:loveactuallyweddings@outlook.com
END:VEVENT
END:VCALENDAR