BEGIN:VCALENDAR
VERSION:2.0
PRODID:-//Inkspiration by Gabrielle - Graphic Designer in Somerset - ECPv6.15.15//NONSGML v1.0//EN
CALSCALE:GREGORIAN
METHOD:PUBLISH
X-WR-CALNAME:Inkspiration by Gabrielle - Graphic Designer in Somerset
X-ORIGINAL-URL:https://inkspirationbygabrielle.co.uk
X-WR-CALDESC:Events for Inkspiration by Gabrielle - Graphic Designer in Somerset
REFRESH-INTERVAL;VALUE=DURATION:PT1H
X-Robots-Tag:noindex
X-PUBLISHED-TTL:PT1H
BEGIN:VTIMEZONE
TZID:Europe/London
BEGIN:DAYLIGHT
TZOFFSETFROM:+0000
TZOFFSETTO:+0100
TZNAME:BST
DTSTART:20230326T010000
END:DAYLIGHT
BEGIN:STANDARD
TZOFFSETFROM:+0100
TZOFFSETTO:+0000
TZNAME:GMT
DTSTART:20231029T010000
END:STANDARD
BEGIN:DAYLIGHT
TZOFFSETFROM:+0000
TZOFFSETTO:+0100
TZNAME:BST
DTSTART:20240331T010000
END:DAYLIGHT
BEGIN:STANDARD
TZOFFSETFROM:+0100
TZOFFSETTO:+0000
TZNAME:GMT
DTSTART:20241027T010000
END:STANDARD
BEGIN:DAYLIGHT
TZOFFSETFROM:+0000
TZOFFSETTO:+0100
TZNAME:BST
DTSTART:20250330T010000
END:DAYLIGHT
BEGIN:STANDARD
TZOFFSETFROM:+0100
TZOFFSETTO:+0000
TZNAME:GMT
DTSTART:20251026T010000
END:STANDARD
END:VTIMEZONE
BEGIN:VEVENT
DTSTART;TZID=Europe/London:20240622T100000
DTEND;TZID=Europe/London:20240622T150000
DTSTAMP:20260423T191339
CREATED:20240502T220402Z
LAST-MODIFIED:20250502T110923Z
UID:4481-1719050400-1719068400@inkspirationbygabrielle.co.uk
SUMMARY:The Market House Wedding Fair
DESCRIPTION:The Market House Wedding Fair\n\nWe are delighted to be hosting a Wedding Open Day at The Market House on Saturday 22nd June 10am – 3pm.\nA wonderful opportunity to see how our beautiful\, historic building could host your intimate wedding. We also have lots of fantastic local wedding suppliers joining us on the day including:\nFlorist – Flowers and Home Scarlett Rose Events – Professional Wedding Planning and Styling The George’s mobile bar – Betsy A Barn Owl (trained as a ring bearer) Wedding Stationary Wedding Car The Somerset Wine Company Wedding Cakes – The Cottage Table Vintage Wedding Dresses and Accessories Dorset Delights Caterersand more to be added!\nFree entry and a complimentary glass of Buck’s Fizz on arrival! 
URL:https://inkspirationbygabrielle.co.uk/event/the-market-house-wedding-fair/
LOCATION:The Market House\, The Market House\, Market Place\, Castle Cary\, Somerset\, BA7 7AH\, United Kingdom
ATTACH;FMTTYPE=image/webp:https://inkspirationbygabrielle.co.uk/wp-content/uploads/2024/05/22nd-June-Castle-Cary-scaled.webp
ORGANIZER;CN="Catrin Loxton":MAILTO:markethouse.bookings@castle-cary.co.uk
END:VEVENT
END:VCALENDAR