BEGIN:VCALENDAR
VERSION:2.0
PRODID:-//Inkspiration by Gabrielle - Graphic Designer in Somerset - ECPv6.15.15//NONSGML v1.0//EN
CALSCALE:GREGORIAN
METHOD:PUBLISH
X-WR-CALNAME:Inkspiration by Gabrielle - Graphic Designer in Somerset
X-ORIGINAL-URL:https://inkspirationbygabrielle.co.uk
X-WR-CALDESC:Events for Inkspiration by Gabrielle - Graphic Designer in Somerset
REFRESH-INTERVAL;VALUE=DURATION:PT1H
X-Robots-Tag:noindex
X-PUBLISHED-TTL:PT1H
BEGIN:VTIMEZONE
TZID:Europe/London
BEGIN:DAYLIGHT
TZOFFSETFROM:+0000
TZOFFSETTO:+0100
TZNAME:BST
DTSTART:20240331T010000
END:DAYLIGHT
BEGIN:STANDARD
TZOFFSETFROM:+0100
TZOFFSETTO:+0000
TZNAME:GMT
DTSTART:20241027T010000
END:STANDARD
BEGIN:DAYLIGHT
TZOFFSETFROM:+0000
TZOFFSETTO:+0100
TZNAME:BST
DTSTART:20250330T010000
END:DAYLIGHT
BEGIN:STANDARD
TZOFFSETFROM:+0100
TZOFFSETTO:+0000
TZNAME:GMT
DTSTART:20251026T010000
END:STANDARD
BEGIN:DAYLIGHT
TZOFFSETFROM:+0000
TZOFFSETTO:+0100
TZNAME:BST
DTSTART:20260329T010000
END:DAYLIGHT
BEGIN:STANDARD
TZOFFSETFROM:+0100
TZOFFSETTO:+0000
TZNAME:GMT
DTSTART:20261025T010000
END:STANDARD
END:VTIMEZONE
BEGIN:VEVENT
DTSTART;TZID=Europe/London:20250302T110000
DTEND;TZID=Europe/London:20250302T140000
DTSTAMP:20260423T173836
CREATED:20250224T092059Z
LAST-MODIFIED:20250502T110541Z
UID:11357-1740913200-1740924000@inkspirationbygabrielle.co.uk
SUMMARY:The Castle Hotel Wedding Fair
DESCRIPTION:The Castle Hotel Wedding Fair \nAre you a bride or groom looking for inspiration for the perfect wedding? If so this is the event for you. \nThe show is being held at the beautiful Castle Hotel in Taunton which is the perfect setting for a stylish wedding. \nYou will be spoilt for choice with over 30 premier local suppliers. Whether it’s the perfect dress\, flowers\, suit\, the latest gin bar\, or lots of entertainment for your guests you can find it all here. \nCome and see The Penthouse suite beautifully decorated for an intimate wedding breakfast.
URL:https://inkspirationbygabrielle.co.uk/event/the-castle-hotel-wedding-fair/
LOCATION:The Castle Hotel\, The Castle Hotel\, Castle Green\, Taunton\, TA1 1NF\, United Kingdom
ATTACH;FMTTYPE=image/webp:https://inkspirationbygabrielle.co.uk/wp-content/uploads/2025/02/474870030_654270047037493_2830579558495672346_n.webp
END:VEVENT
END:VCALENDAR