BEGIN:VCALENDAR
VERSION:2.0
PRODID:-//Inkspiration by Gabrielle - Graphic Designer in Somerset - ECPv6.15.15//NONSGML v1.0//EN
CALSCALE:GREGORIAN
METHOD:PUBLISH
X-WR-CALNAME:Inkspiration by Gabrielle - Graphic Designer in Somerset
X-ORIGINAL-URL:https://inkspirationbygabrielle.co.uk
X-WR-CALDESC:Events for Inkspiration by Gabrielle - Graphic Designer in Somerset
REFRESH-INTERVAL;VALUE=DURATION:PT1H
X-Robots-Tag:noindex
X-PUBLISHED-TTL:PT1H
BEGIN:VTIMEZONE
TZID:Europe/London
BEGIN:DAYLIGHT
TZOFFSETFROM:+0000
TZOFFSETTO:+0100
TZNAME:BST
DTSTART:20230326T010000
END:DAYLIGHT
BEGIN:STANDARD
TZOFFSETFROM:+0100
TZOFFSETTO:+0000
TZNAME:GMT
DTSTART:20231029T010000
END:STANDARD
BEGIN:DAYLIGHT
TZOFFSETFROM:+0000
TZOFFSETTO:+0100
TZNAME:BST
DTSTART:20240331T010000
END:DAYLIGHT
BEGIN:STANDARD
TZOFFSETFROM:+0100
TZOFFSETTO:+0000
TZNAME:GMT
DTSTART:20241027T010000
END:STANDARD
BEGIN:DAYLIGHT
TZOFFSETFROM:+0000
TZOFFSETTO:+0100
TZNAME:BST
DTSTART:20250330T010000
END:DAYLIGHT
BEGIN:STANDARD
TZOFFSETFROM:+0100
TZOFFSETTO:+0000
TZNAME:GMT
DTSTART:20251026T010000
END:STANDARD
END:VTIMEZONE
BEGIN:VEVENT
DTSTART;TZID=Europe/London:20240505T120000
DTEND;TZID=Europe/London:20240505T150000
DTSTAMP:20260423T191258
CREATED:20240502T215159Z
LAST-MODIFIED:20250502T110949Z
UID:4476-1714910400-1714921200@inkspirationbygabrielle.co.uk
SUMMARY:Pretty & Punk Wedding Fair
DESCRIPTION:Pretty & Punk Wedding Fair \nPurchase your tickets today for our Pretty & Punk Parties! Your ticket entry will get you: \n\nA wedding planning goody bag\nEntry to our planning party\nSnacks and drinks throughout the event\nTalks from industry experts to help you plan your wedding\nA 2 hour after party where you can mix and mingle with family and suppliers alike\n\nFrom the moment you step in\, you will be greeted with a warm welcome\, a drink\, and some delicious snacks to keep you energized throughout the day. But that’s not all! Our fair is packed with exciting talks from industry experts\, live music\, and a whole array of vendors showcasing everything from wedding dresses to floral arrangements. You’ll be able to connect with vendors\, get inspired by stunning displays\, and get all your wedding-related questions answered.
URL:https://inkspirationbygabrielle.co.uk/event/pretty-punk-wedding-fair/
LOCATION:Taunton Rugby Club\, Towergate Stadium\, Taunton\, Somerset\, TA2 8BU\, United Kingdom
ATTACH;FMTTYPE=image/webp:https://inkspirationbygabrielle.co.uk/wp-content/uploads/2024/05/WhatsApp-Image-2024-04-30-at-13.24.55_e848fcf3.webp
ORGANIZER;CN="Pretty & Punk":MAILTO:daniella@prettyandpunk.co.uk
END:VEVENT
END:VCALENDAR