BEGIN:VCALENDAR
VERSION:2.0
PRODID:-//Inkspiration by Gabrielle - Graphic Designer in Somerset - ECPv6.15.15//NONSGML v1.0//EN
CALSCALE:GREGORIAN
METHOD:PUBLISH
X-WR-CALNAME:Inkspiration by Gabrielle - Graphic Designer in Somerset
X-ORIGINAL-URL:https://inkspirationbygabrielle.co.uk
X-WR-CALDESC:Events for Inkspiration by Gabrielle - Graphic Designer in Somerset
REFRESH-INTERVAL;VALUE=DURATION:PT1H
X-Robots-Tag:noindex
X-PUBLISHED-TTL:PT1H
BEGIN:VTIMEZONE
TZID:Europe/London
BEGIN:DAYLIGHT
TZOFFSETFROM:+0000
TZOFFSETTO:+0100
TZNAME:BST
DTSTART:20230326T010000
END:DAYLIGHT
BEGIN:STANDARD
TZOFFSETFROM:+0100
TZOFFSETTO:+0000
TZNAME:GMT
DTSTART:20231029T010000
END:STANDARD
BEGIN:DAYLIGHT
TZOFFSETFROM:+0000
TZOFFSETTO:+0100
TZNAME:BST
DTSTART:20240331T010000
END:DAYLIGHT
BEGIN:STANDARD
TZOFFSETFROM:+0100
TZOFFSETTO:+0000
TZNAME:GMT
DTSTART:20241027T010000
END:STANDARD
BEGIN:DAYLIGHT
TZOFFSETFROM:+0000
TZOFFSETTO:+0100
TZNAME:BST
DTSTART:20250330T010000
END:DAYLIGHT
BEGIN:STANDARD
TZOFFSETFROM:+0100
TZOFFSETTO:+0000
TZNAME:GMT
DTSTART:20251026T010000
END:STANDARD
END:VTIMEZONE
BEGIN:VEVENT
DTSTART;TZID=Europe/London:20240407T120000
DTEND;TZID=Europe/London:20240407T160000
DTSTAMP:20260423T191258
CREATED:20240408T125758Z
LAST-MODIFIED:20250502T111028Z
UID:4082-1712491200-1712505600@inkspirationbygabrielle.co.uk
SUMMARY:Chard School\, Chard\, Wedding Fair
DESCRIPTION:Chard School\, Chard\, Wedding Fair \nChard School is a new and unique venue in Somerset\, offering flexibility for your special day! \nInspire your special day with a selection of local businesses.
URL:https://inkspirationbygabrielle.co.uk/event/chard-school-chard-wedding-fair/
LOCATION:Chard School\, Chard Prep School\, Chard\, Somerset\, TA20 1QA\, United Kingdom
ATTACH;FMTTYPE=image/webp:https://inkspirationbygabrielle.co.uk/wp-content/uploads/2024/04/7th-April-Chard-School.webp
ORGANIZER;CN="Weddings & Events by Michelle":MAILTO:michelle.weddingevent@gmail.com
END:VEVENT
END:VCALENDAR